BEGIN:VCALENDAR
VERSION:2.0
PRODID:-//Global Credit Data - ECPv6.15.15//NONSGML v1.0//EN
CALSCALE:GREGORIAN
METHOD:PUBLISH
X-ORIGINAL-URL:https://globalcreditdata.org
X-WR-CALDESC:Events for Global Credit Data
REFRESH-INTERVAL;VALUE=DURATION:PT1H
X-Robots-Tag:noindex
X-PUBLISHED-TTL:PT1H
BEGIN:VTIMEZONE
TZID:Asia/Dubai
BEGIN:STANDARD
TZOFFSETFROM:+0400
TZOFFSETTO:+0400
TZNAME:+04
DTSTART:20240101T000000
END:STANDARD
END:VTIMEZONE
BEGIN:VEVENT
DTSTART;TZID=Asia/Dubai:20251006T080000
DTEND;TZID=Asia/Dubai:20251006T170000
DTSTAMP:20260426T061335
CREATED:20250702T185324Z
LAST-MODIFIED:20250710T212525Z
UID:12755-1759737600-1759770000@globalcreditdata.org
SUMMARY:GCD New York Conference 2025
DESCRIPTION:Organised by Global Credit Data (GCD) · Hosted by Capgemini\n\n\n\nJoin senior credit risk leaders from across the financial services industry for a focused\, one-day program that turns data into better capital decisions.\n\n\n\n\nWhat to expect:\n\nKeynote presentations – understand capital impacts\, output-floor readiness\, and next-step actions.\nPeer-driven panels on external loss benchmarking\, stress-testing insights\, and model-validation best practice.\nInteractive break-out workshops covering CCAR downturn LGD\, climate-adjusted PDs\, data-quality/BCBS 239 and low-default portfolio techniques.\nCase study on LGD representativeness – learn how pooled data can identify sampling bias and refine capital estimates.\nAI & technology spotlight – live demonstration of accelerators for credit-risk analytics.\nInsights from GCD’s global PD/LGD database\, enabling evidence-based benchmarking across regions and asset classes.\nHigh-value networking at hosted breakfast\, lunch\, and an evening reception in Midtown Manhattan.\n\n  \nSpace is limited. Register your interest today and we’ll confirm your seat and share the detailed agenda. \nRegister
URL:https://globalcreditdata.org/events/gcd-new-york-conference-2025/
CATEGORIES:ESG & Climate Risk
ATTACH;FMTTYPE=image/jpeg:https://globalcreditdata.org/wp-content/uploads/2025/07/linkedin3.jpg
END:VEVENT
END:VCALENDAR