BEGIN:VCALENDAR
VERSION:2.0
PRODID:-//Global Credit Data - ECPv6.15.15//NONSGML v1.0//EN
CALSCALE:GREGORIAN
METHOD:PUBLISH
X-WR-CALNAME:Global Credit Data
X-ORIGINAL-URL:https://globalcreditdata.org
X-WR-CALDESC:Events for Global Credit Data
REFRESH-INTERVAL;VALUE=DURATION:PT1H
X-Robots-Tag:noindex
X-PUBLISHED-TTL:PT1H
BEGIN:VTIMEZONE
TZID:Europe/Paris
BEGIN:DAYLIGHT
TZOFFSETFROM:+0100
TZOFFSETTO:+0200
TZNAME:CEST
DTSTART:20250330T010000
END:DAYLIGHT
BEGIN:STANDARD
TZOFFSETFROM:+0200
TZOFFSETTO:+0100
TZNAME:CET
DTSTART:20251026T010000
END:STANDARD
BEGIN:DAYLIGHT
TZOFFSETFROM:+0100
TZOFFSETTO:+0200
TZNAME:CEST
DTSTART:20260329T010000
END:DAYLIGHT
BEGIN:STANDARD
TZOFFSETFROM:+0200
TZOFFSETTO:+0100
TZNAME:CET
DTSTART:20261025T010000
END:STANDARD
BEGIN:DAYLIGHT
TZOFFSETFROM:+0100
TZOFFSETTO:+0200
TZNAME:CEST
DTSTART:20270328T010000
END:DAYLIGHT
BEGIN:STANDARD
TZOFFSETFROM:+0200
TZOFFSETTO:+0100
TZNAME:CET
DTSTART:20271031T010000
END:STANDARD
END:VTIMEZONE
BEGIN:VEVENT
DTSTART;TZID=Europe/Paris:20260305T080000
DTEND;TZID=Europe/Paris:20260306T170000
DTSTAMP:20260425T213636
CREATED:20251111T091559Z
LAST-MODIFIED:20260220T131919Z
UID:13133-1772697600-1772816400@globalcreditdata.org
SUMMARY:Global Credit Data European Conference – March 5 & 6\, 2026
DESCRIPTION:We’re excited to announce our highly anticipated European Conference\, taking place in Zurich\, Switzerland on March 5–6\, 2026.\nJoin senior credit risk professionals from leading European and global banks for two dynamic days of insight\, collaboration\, and networking.
URL:https://globalcreditdata.org/events/global-credit-data-european-conference-march-5-6-2026/
CATEGORIES:ESG & Climate Risk
ATTACH;FMTTYPE=image/jpeg:https://globalcreditdata.org/wp-content/uploads/2025/11/save-the-date-without-logo.jpg
END:VEVENT
END:VCALENDAR