BEGIN:VCALENDAR
VERSION:2.0
PRODID:-//Global Credit Data - ECPv6.15.15//NONSGML v1.0//EN
CALSCALE:GREGORIAN
METHOD:PUBLISH
X-ORIGINAL-URL:https://globalcreditdata.org
X-WR-CALDESC:Events for Global Credit Data
REFRESH-INTERVAL;VALUE=DURATION:PT1H
X-Robots-Tag:noindex
X-PUBLISHED-TTL:PT1H
BEGIN:VTIMEZONE
TZID:America/Toronto
BEGIN:DAYLIGHT
TZOFFSETFROM:-0500
TZOFFSETTO:-0400
TZNAME:EDT
DTSTART:20220313T070000
END:DAYLIGHT
BEGIN:STANDARD
TZOFFSETFROM:-0400
TZOFFSETTO:-0500
TZNAME:EST
DTSTART:20221106T060000
END:STANDARD
BEGIN:DAYLIGHT
TZOFFSETFROM:-0500
TZOFFSETTO:-0400
TZNAME:EDT
DTSTART:20230312T070000
END:DAYLIGHT
BEGIN:STANDARD
TZOFFSETFROM:-0400
TZOFFSETTO:-0500
TZNAME:EST
DTSTART:20231105T060000
END:STANDARD
BEGIN:DAYLIGHT
TZOFFSETFROM:-0500
TZOFFSETTO:-0400
TZNAME:EDT
DTSTART:20240310T070000
END:DAYLIGHT
BEGIN:STANDARD
TZOFFSETFROM:-0400
TZOFFSETTO:-0500
TZNAME:EST
DTSTART:20241103T060000
END:STANDARD
BEGIN:DAYLIGHT
TZOFFSETFROM:-0500
TZOFFSETTO:-0400
TZNAME:EDT
DTSTART:20250309T070000
END:DAYLIGHT
BEGIN:STANDARD
TZOFFSETFROM:-0400
TZOFFSETTO:-0500
TZNAME:EST
DTSTART:20251102T060000
END:STANDARD
END:VTIMEZONE
BEGIN:VTIMEZONE
TZID:Europe/Berlin
BEGIN:DAYLIGHT
TZOFFSETFROM:+0100
TZOFFSETTO:+0200
TZNAME:CEST
DTSTART:20230326T010000
END:DAYLIGHT
BEGIN:STANDARD
TZOFFSETFROM:+0200
TZOFFSETTO:+0100
TZNAME:CET
DTSTART:20231029T010000
END:STANDARD
BEGIN:DAYLIGHT
TZOFFSETFROM:+0100
TZOFFSETTO:+0200
TZNAME:CEST
DTSTART:20240331T010000
END:DAYLIGHT
BEGIN:STANDARD
TZOFFSETFROM:+0200
TZOFFSETTO:+0100
TZNAME:CET
DTSTART:20241027T010000
END:STANDARD
BEGIN:DAYLIGHT
TZOFFSETFROM:+0100
TZOFFSETTO:+0200
TZNAME:CEST
DTSTART:20250330T010000
END:DAYLIGHT
BEGIN:STANDARD
TZOFFSETFROM:+0200
TZOFFSETTO:+0100
TZNAME:CET
DTSTART:20251026T010000
END:STANDARD
END:VTIMEZONE
BEGIN:VTIMEZONE
TZID:UTC
BEGIN:STANDARD
TZOFFSETFROM:+0000
TZOFFSETTO:+0000
TZNAME:UTC
DTSTART:20220101T000000
END:STANDARD
END:VTIMEZONE
BEGIN:VTIMEZONE
TZID:Europe/Amsterdam
BEGIN:DAYLIGHT
TZOFFSETFROM:+0100
TZOFFSETTO:+0200
TZNAME:CEST
DTSTART:20220327T010000
END:DAYLIGHT
BEGIN:STANDARD
TZOFFSETFROM:+0200
TZOFFSETTO:+0100
TZNAME:CET
DTSTART:20221030T010000
END:STANDARD
BEGIN:DAYLIGHT
TZOFFSETFROM:+0100
TZOFFSETTO:+0200
TZNAME:CEST
DTSTART:20230326T010000
END:DAYLIGHT
BEGIN:STANDARD
TZOFFSETFROM:+0200
TZOFFSETTO:+0100
TZNAME:CET
DTSTART:20231029T010000
END:STANDARD
BEGIN:DAYLIGHT
TZOFFSETFROM:+0100
TZOFFSETTO:+0200
TZNAME:CEST
DTSTART:20240331T010000
END:DAYLIGHT
BEGIN:STANDARD
TZOFFSETFROM:+0200
TZOFFSETTO:+0100
TZNAME:CET
DTSTART:20241027T010000
END:STANDARD
END:VTIMEZONE
BEGIN:VTIMEZONE
TZID:Europe/Paris
BEGIN:DAYLIGHT
TZOFFSETFROM:+0100
TZOFFSETTO:+0200
TZNAME:CEST
DTSTART:20210328T010000
END:DAYLIGHT
BEGIN:STANDARD
TZOFFSETFROM:+0200
TZOFFSETTO:+0100
TZNAME:CET
DTSTART:20211031T010000
END:STANDARD
BEGIN:DAYLIGHT
TZOFFSETFROM:+0100
TZOFFSETTO:+0200
TZNAME:CEST
DTSTART:20220327T010000
END:DAYLIGHT
BEGIN:STANDARD
TZOFFSETFROM:+0200
TZOFFSETTO:+0100
TZNAME:CET
DTSTART:20221030T010000
END:STANDARD
BEGIN:DAYLIGHT
TZOFFSETFROM:+0100
TZOFFSETTO:+0200
TZNAME:CEST
DTSTART:20230326T010000
END:DAYLIGHT
BEGIN:STANDARD
TZOFFSETFROM:+0200
TZOFFSETTO:+0100
TZNAME:CET
DTSTART:20231029T010000
END:STANDARD
END:VTIMEZONE
BEGIN:VTIMEZONE
TZID:Europe/Helsinki
BEGIN:DAYLIGHT
TZOFFSETFROM:+0200
TZOFFSETTO:+0300
TZNAME:EEST
DTSTART:20200329T010000
END:DAYLIGHT
BEGIN:STANDARD
TZOFFSETFROM:+0300
TZOFFSETTO:+0200
TZNAME:EET
DTSTART:20201025T010000
END:STANDARD
BEGIN:DAYLIGHT
TZOFFSETFROM:+0200
TZOFFSETTO:+0300
TZNAME:EEST
DTSTART:20210328T010000
END:DAYLIGHT
BEGIN:STANDARD
TZOFFSETFROM:+0300
TZOFFSETTO:+0200
TZNAME:EET
DTSTART:20211031T010000
END:STANDARD
BEGIN:DAYLIGHT
TZOFFSETFROM:+0200
TZOFFSETTO:+0300
TZNAME:EEST
DTSTART:20220327T010000
END:DAYLIGHT
BEGIN:STANDARD
TZOFFSETFROM:+0300
TZOFFSETTO:+0200
TZNAME:EET
DTSTART:20221030T010000
END:STANDARD
END:VTIMEZONE
BEGIN:VEVENT
DTSTART;TZID=America/Toronto:20240529T090000
DTEND;TZID=America/Toronto:20240529T100000
DTSTAMP:20260425T225828
CREATED:20240522T020031Z
LAST-MODIFIED:20240522T020848Z
UID:11928-1716973200-1716976800@globalcreditdata.org
SUMMARY:GCD Climate Risk Focus Group | Towards short-term climate scenarios: the NGFS approach
DESCRIPTION:Towards short-term climate scenarios: the NGFS approach\nWednesday\, May29th\, at 09:00 EDT/15:00 CEST\nThe NGFS team at European Central Bank (ECB) is meeting with GCD Climate Risk focus group members once more for the second part of the information session series on Wednesday\, May 29th\, at 09:00 EDT/15:00 CEST . The speakers\, Mario Morelli and Clemens-Maria Lehofer will present their work on short-term scenarios and provide an indicative sketch of how the scenario data will be structured. This will be followed by a live survey to gather participant views and allow deeper understanding of banking industry perspectives\, applications\, and preferences which will pave the way for an open interactive discussion and Q&A time\, where attendees are encouraged to pose questions and share their input. \nBuilding on the NGFS Teams presentation from last month on long-term scenarios\, this webinar aims to continue the ongoing dialogue between modelers and financial sector users for better integration of these scenarios into financial decision-making and continued enhancement of the scenarios themselves. Don’t miss this opportunity to engage with the speakers and peers and contribute your insights! \n \nThis session is a part of the GCD Climate Risk Focus Group’s webinar series. The focus group serves as a center for collaboration and the sharing of expertise among ESG\, climate\, and risk professionals from banks and industry experts worldwide.\n\n\n\n\n  \n 
URL:https://globalcreditdata.org/events/gcd-climatefocusgroupmeeting-20240417-copy/
LOCATION:Web
CATEGORIES:ESG & Climate Risk
ATTACH;FMTTYPE=image/png:https://globalcreditdata.org/wp-content/uploads/2024/01/GCD-Focus-Group-image-1small.png
END:VEVENT
BEGIN:VEVENT
DTSTART;TZID=Europe/Berlin:20240523T110000
DTEND;TZID=Europe/Berlin:20240523T170000
DTSTAMP:20260425T225828
CREATED:20240521T191746Z
LAST-MODIFIED:20240521T192600Z
UID:11924-1716462000-1716483600@globalcreditdata.org
SUMMARY:GCD DACH Forum in Frankfurt
DESCRIPTION:Global Credit Data invites you to the first DACH Forum in Frankfurt\n\nIn cooperation with our partner d-fine\nWe cordially invite you to our first German-language GCD conference – with relevant topics and a venue near you. Exchange ideas at our half-day event on the topics that are important to you. Learn from the experiences of your colleagues and benefit from the most up-to-date benchmarking with the GCD data at national and regional level. \n\n\nSecure one of the limited\, free seats.\n\nWhen? May 23\, 2024 11:00 a.m. to 5:00 p.m.\nWhere? KfW Group\, Frankfurt am Main\nWhat can you expect? Lunch\, knowledge sharing\, valuable presentations from your peers\, networking & drinks\nWhy is it worth it? You will receive up-to-date information on risk and regulatory issues and the opportunity to exchange ideas with your direct peers\nWho should attend? Managers and experts in the field of credit risk validation and modeling\, regulatory affairs\, ESG and stress testing\nHow much does it cost? Free for GCD members and invited guests from non-member banks\n\nhttps://events.globalcreditdata.org/GCDDACHForum \n 
URL:https://globalcreditdata.org/events/gcd-toronto-conference-spring-2024-copy/
CATEGORIES:All Members,ESG & Climate Risk
ATTACH;FMTTYPE=image/jpeg:https://globalcreditdata.org/wp-content/uploads/2024/05/DACH-forum1.jpg
ORGANIZER;CN="GCD Conference Team":MAILTO:EU2023@globalcreditdata.org
END:VEVENT
BEGIN:VEVENT
DTSTART;TZID=America/Toronto:20240517T090000
DTEND;TZID=America/Toronto:20240517T100000
DTSTAMP:20260425T225828
CREATED:20240415T144357Z
LAST-MODIFIED:20240415T144357Z
UID:11754-1715936400-1715940000@globalcreditdata.org
SUMMARY:GCD Climate Risk Focus Group | Rabobank presentation: ESG risk score
DESCRIPTION:Speaker: Sander Scheerders\, Rabobank\nWhere: MS Teams\nThis session is part of the GCD Climate Risk Focus Group‘s bank webinar series. The focus group serves as a center for collaboration and the sharing of expertise among ESG\, climate\, and risk professionals from banks and industry experts worldwide.
URL:https://globalcreditdata.org/events/gcd-climatefocusgroup-meeting-20240306-2-copy-2/
CATEGORIES:ESG & Climate Risk
ATTACH;FMTTYPE=image/jpeg:https://globalcreditdata.org/wp-content/uploads/2024/02/GCD-webinar-image-2-e1709085753419.jpg
END:VEVENT
BEGIN:VEVENT
DTSTART;TZID=America/Toronto:20240508T100000
DTEND;TZID=America/Toronto:20240508T110000
DTSTAMP:20260425T225828
CREATED:20240502T214148Z
LAST-MODIFIED:20240502T215741Z
UID:11885-1715162400-1715166000@globalcreditdata.org
SUMMARY:GCD Climate Risk Focus Group | An Integrated Credit/Climate Scenario Approach
DESCRIPTION:Join us for the upcoming webinar on Wednesday\, May 8th at 10:00 EDT / 16:00 CEST / 15:00 BST with Scott Aguais and Larry Forest as they share insights on Modelling Credit/Climate Analytics and Scenarios. \nSpeakers will present a detailed approach for developing climate risk stress test scenarios that applies firm-level climate physical-and transition-risk sensitivities and introduces credit risk shocks into climate risk modelling\, detailed in their recently published UK Centre for Greening Finance and Investment – CGFI Climate Institute Paper and will provide examples of credit/climate scenarios. \nThis session is a part of the GCD Climate Risk Focus Group’s webinar series. The focus group serves as a center for collaboration and the sharing of expertise among ESG\, climate\, and risk professionals from banks and industry experts worldwide. \n 
URL:https://globalcreditdata.org/events/gcd-climatefocusgroup-meeting-20240306-2-copy-2-copy/
CATEGORIES:ESG & Climate Risk
ATTACH;FMTTYPE=image/png:https://globalcreditdata.org/wp-content/uploads/2024/01/GCD-Focus-Group-image-2.png
END:VEVENT
BEGIN:VEVENT
DTSTART;TZID=America/Toronto:20240429T080000
DTEND;TZID=America/Toronto:20240429T160000
DTSTAMP:20260425T225828
CREATED:20240125T214915Z
LAST-MODIFIED:20240306T025143Z
UID:11586-1714377600-1714406400@globalcreditdata.org
SUMMARY:GCD Toronto Conference - Spring 2024
DESCRIPTION:Unique Conference by Banks for Banks\n\nHosted by the Royal Bank of Canada (RBC)\, GCD Toronto conference promises to be an exceptional opportunity for bank professionals to come together and exchange knowledge\, insights\, and best practices while building valuable connections with like-minded peers.\n\n\nSuccessful risk modelling demonstrations from Canadian banks\nLeading Credit Risk professionals provide practical insights\nIn-depth peer-to-peer discussions on challenging aspects of risk management including ESG and Climate Risk topics\nLatest analytics from the GCD databases (LGD-EaD and PD)\, world’s largest bank loan databases\nNetworking opportunities with peers\nConference Website
URL:https://globalcreditdata.org/events/gcd-toronto-conference-spring-2024/
CATEGORIES:All Members,ESG & Climate Risk
ATTACH;FMTTYPE=image/jpeg:https://globalcreditdata.org/wp-content/uploads/2024/01/Savethedate_Torontov1.jpg
END:VEVENT
BEGIN:VEVENT
DTSTART;TZID=America/Toronto:20240417T080000
DTEND;TZID=America/Toronto:20240417T090000
DTSTAMP:20260425T225828
CREATED:20240404T235950Z
LAST-MODIFIED:20240415T142004Z
UID:11741-1713340800-1713344400@globalcreditdata.org
SUMMARY:GCD Climate Risk Focus Group | Long-term NGFS Climate Scenarios and Overview of Data
DESCRIPTION:Speakers: ECB NGFS Climate Team: Clemens-Maria Lehofer and Senne Aerts\n \n  \n  \nWhere: MS Teams\nThis session is part of the GCD Climate Risk Focus Group‘s webinar series. The focus group serves as a center for collaboration and the sharing of expertise among ESG\, climate\, and risk professionals from banks and industry experts worldwide. \nWebinar details:\nAs the sophistication of climate risk assessments increases\, regulatory expectations grow\, and financial institutions commit to net-zero targets\, the relevance of climate scenarios for the financial sector continues to rise. Given the emerging importance of these scenarios\, it is imperative that users fully understand the nature of climate scenarios\, and that scenario designers appreciate the financial sector applications of their work. Ongoing dialogue between modelers and financial sector users will result both in better integration of these scenarios into financial decision-making and continued enhancement of the scenarios themselves. This session will present an overview of the latest release of the NGFS Climate Scenarios\, including updates\, results and key take aways for financial institutions. Additionally\, the session will include a tutorial on available data and access. \n  \nRegister for the Webinar\n 
URL:https://globalcreditdata.org/events/gcd-climatefocusgroupmeeting-20240417/
LOCATION:Web
CATEGORIES:ESG & Climate Risk
ATTACH;FMTTYPE=image/png:https://globalcreditdata.org/wp-content/uploads/2024/01/GCD-Focus-Group-image-1small.png
END:VEVENT
BEGIN:VEVENT
DTSTART;TZID=America/Toronto:20240410T090000
DTEND;TZID=America/Toronto:20240410T100000
DTSTAMP:20260425T225828
CREATED:20240228T021659Z
LAST-MODIFIED:20240321T160554Z
UID:11676-1712739600-1712743200@globalcreditdata.org
SUMMARY:GCD Climate Risk Focus Group | National Bank of Canada presentation: Climate Stress Testing
DESCRIPTION:Speaker: Oscar Calderon\, National Bank of Canada \nWhere: MS Teams \nThis session is part of the GCD Climate Risk Focus Group‘s bank webinar series. The focus group serves as a center for collaboration and the sharing of expertise among ESG\, climate\, and risk professionals from banks and industry experts worldwide.
URL:https://globalcreditdata.org/events/gcd-climatefocusgroup-meeting-20240306-2-copy/
CATEGORIES:ESG & Climate Risk
ATTACH;FMTTYPE=image/jpeg:https://globalcreditdata.org/wp-content/uploads/2024/02/GCD-webinar-image-2-e1709085753419.jpg
END:VEVENT
BEGIN:VEVENT
DTSTART;TZID=America/Toronto:20240320T100000
DTEND;TZID=America/Toronto:20240320T110000
DTSTAMP:20260425T225828
CREATED:20240228T020715Z
LAST-MODIFIED:20240314T190901Z
UID:11674-1710928800-1710932400@globalcreditdata.org
SUMMARY:GCD Climate Risk Focus Group | ING presentation: Climate risk assessment for SMEs
DESCRIPTION:Speaker: Daniela Thakkar\, ING\nWhen: Wednesday\, March 20th\, at 09:00 EST / 14:00 CET\nDuration: 60 minutes\nWhere: MS Teams \nThis session is part of the GCD Climate Risk Focus Group‘s bank webinar series. The focus group serves as a center for collaboration and the sharing of expertise among ESG\, climate\, and risk professionals from banks and industry experts worldwide.
URL:https://globalcreditdata.org/events/gcd-climatefocusgroup-meeting-20240306-2/
CATEGORIES:ESG & Climate Risk
ATTACH;FMTTYPE=image/jpeg:https://globalcreditdata.org/wp-content/uploads/2024/02/GCD-webinar-image-2-e1709085753419.jpg
END:VEVENT
BEGIN:VEVENT
DTSTART;TZID=America/Toronto:20240306T090000
DTEND;TZID=America/Toronto:20240306T100000
DTSTAMP:20260425T225828
CREATED:20240222T203909Z
LAST-MODIFIED:20240228T020257Z
UID:11651-1709715600-1709719200@globalcreditdata.org
SUMMARY:GCD Climate Risk Focus Group | UBS/Credit Suisse presentation: The Impact of Climate Risk on Funding Cost
DESCRIPTION:Climate change can potentially have an impact in many areas in the bank. In this session we will discuss different channels how climate risk can impact funding costs.\n \nSpeaker: Frederic Menninger\, Director\, UBS/Credit Suisse\nWhen: Wednesday\, March 6th\, at 09:00 EST / 15:00 CET\nDuration: 60 minutes\nWhere: MS Teams \nThis session is part of the GCD Climate Risk Focus Group‘s bank webinar series. The focus group serves as a center for collaboration and the sharing of expertise among ESG\, climate\, and risk professionals from banks and industry experts worldwide.
URL:https://globalcreditdata.org/events/gcd-climatefocusgroup-meeting-20240306/
CATEGORIES:ESG & Climate Risk
ATTACH;FMTTYPE=image/jpeg:https://globalcreditdata.org/wp-content/uploads/2024/02/GCD-webinar-image-2-e1709085753419.jpg
END:VEVENT
BEGIN:VEVENT
DTSTART;TZID=America/Toronto:20240131T090000
DTEND;TZID=America/Toronto:20240131T103000
DTSTAMP:20260425T225828
CREATED:20240119T194818Z
LAST-MODIFIED:20240119T200301Z
UID:11568-1706691600-1706697000@globalcreditdata.org
SUMMARY:GCD Climate Risk Focus Group Meeting January 2024
DESCRIPTION:The first climate risk focus group meeting of the year. This focus group serves as a center for collaboration and knowledge exchange among ESG & climate and risk experts globally.\nWhere: MS Teams
URL:https://globalcreditdata.org/events/gcd-climatefocusgroup-meeting-202401/
CATEGORIES:ESG & Climate Risk
ATTACH;FMTTYPE=image/png:https://globalcreditdata.org/wp-content/uploads/2024/01/GCD-Focus-Group-image-1small.png
END:VEVENT
BEGIN:VEVENT
DTSTART;TZID=America/Toronto:20231109T100000
DTEND;TZID=America/Toronto:20231109T110000
DTSTAMP:20260425T225828
CREATED:20240111T030659Z
LAST-MODIFIED:20240111T030857Z
UID:11547-1699524000-1699527600@globalcreditdata.org
SUMMARY:Global Credit Data Webinar: Monitoring Climate Risk
DESCRIPTION:GCD Climate Risk Webinar on “Managing Climate-Related Financial Risks in Banking: Leveraging Extra Financial Reporting” where we will explore how banks\, regardless of their size\, complexity\, or business model\, are potentially exposed to climate-related financial risks. \nMicrosoft Teams meeting
URL:https://globalcreditdata.org/events/global-credit-data-webinar-monitoring-climate-risk/
CATEGORIES:ESG & Climate Risk
ATTACH;FMTTYPE=image/png:https://globalcreditdata.org/wp-content/uploads/2024/01/DALL·E-credit-and-climate-2-e1704942518419.png
END:VEVENT
BEGIN:VEVENT
DTSTART;VALUE=DATE:20231009
DTEND;VALUE=DATE:20231011
DTSTAMP:20260425T225828
CREATED:20231211T182839Z
LAST-MODIFIED:20240111T192613Z
UID:11334-1696809600-1696982399@globalcreditdata.org
SUMMARY:GCD Conference October 2023
DESCRIPTION:Visit Conference page for registration and more information
URL:https://globalcreditdata.org/events/2023-october-conference-copy/
LOCATION:Amsterdam\, Netherlands
CATEGORIES:ESG & Climate Risk
ATTACH;FMTTYPE=image/jpeg:https://globalcreditdata.org/wp-content/uploads/2023/06/sergey-shmidt-koy6FlCCy5s-unsplash2232-0.jpg
ORGANIZER;CN="GCD Conference Team":MAILTO:EU2023@globalcreditdata.org
END:VEVENT
BEGIN:VEVENT
DTSTART;TZID=Europe/Amsterdam:20230726T150000
DTEND;TZID=Europe/Amsterdam:20230726T160000
DTSTAMP:20260425T225828
CREATED:20230724T002336Z
LAST-MODIFIED:20240111T025127Z
UID:11138-1690383600-1690387200@globalcreditdata.org
SUMMARY:GCD Climate Risk Webinar (July 26-2023)
DESCRIPTION:When: Wednesday\, July 26th\, 2023\, at 09:00 EST / 15:00 CET\nWhere: MS Teams
URL:https://globalcreditdata.org/events/gcd-climate-risk-webinar-july-26-2023/
LOCATION:Web
CATEGORIES:All Members,ESG & Climate Risk
ATTACH;FMTTYPE=image/jpeg:https://globalcreditdata.org/wp-content/uploads/2023/07/melissa-bradley-96iwiAxOuJw-unsplash.jpg
END:VEVENT
BEGIN:VEVENT
DTSTART;TZID=Europe/Paris:20220422T080000
DTEND;TZID=Europe/Paris:20220422T100000
DTSTAMP:20260425T225828
CREATED:20220406T183439Z
LAST-MODIFIED:20240111T025944Z
UID:10299-1650614400-1650621600@globalcreditdata.org
SUMMARY:Climate Risk | Round Table
DESCRIPTION:  \nJoin GCD to discuss a GHG emission framework and Green RWA produced by industry leaders. \n  \nAgenda \n  \nBNP Asset Management: \nClimate MODEL |  GHG emission Framework and methodology \nIGGAAK : \nClimate MODEL |  Climate Extended Risk Model \n(Basel RW extended to Transition and Physical risks) for climate impacted green RWA \nRound table: Implementing climate risk frameworks : \nClimate USE CASE  | 4-pi\, SAS\, d-fine/EEFIG\, GCD to elaborate on the relevance of collaborative climate risk framework \n4-pi: \nClimate USE CASE | Deep dive on real projects/solutions based on 4-pi/4-most experience \nGCD: \nClimate DATA | high-level feedback on climate-data-pooling readiness based on GCD Member feedback \n  \n  \nMicrosoft Teams meeting \n 
URL:https://globalcreditdata.org/events/climate-risk-round-table/
LOCATION:Web
CATEGORIES:ESG & Climate Risk
END:VEVENT
BEGIN:VEVENT
DTSTART;TZID=Europe/Helsinki:20211129T090000
DTEND;TZID=Europe/Helsinki:20211129T100000
DTSTAMP:20260425T225828
CREATED:20211027T140552Z
LAST-MODIFIED:20240111T025759Z
UID:9494-1638176400-1638180000@globalcreditdata.org
SUMMARY:Climate Risk Webinar 2 - 29 November 2021 | 15:00 CET | 9:00 ET
DESCRIPTION:Following the kick-off webinar from 14 October\,  the GCD initiative on Climate risk moves to action phase and proposes to reconvene for decisions on climate data sharing\, on 29th of November 3 pm CEST – 9 am ET. \nProposed agenda: \n– Climate risk TOOLS currently implemented in banks’ ERM: feedback from practitioners\, \n– Climate risk related DATA-ITEMS for participative pooling: decision on target short-list of climate analytics\, \n– Enrollment and contribution in the GCD Climate initiative: how to get your institution involved? (tip: data is the currency). \n  \nSurvey – Take 5 min to complete this short survey \nhttps://survey.globalcreditdata.org/zs/VQhDak
URL:https://globalcreditdata.org/events/climate-risk-webinar-2-29-november-2021-1500-cet-900-et/
LOCATION:Web
CATEGORIES:ESG & Climate Risk
END:VEVENT
END:VCALENDAR