BEGIN:VCALENDAR
VERSION:2.0
PRODID:-//Global Credit Data - ECPv6.15.15//NONSGML v1.0//EN
CALSCALE:GREGORIAN
METHOD:PUBLISH
X-ORIGINAL-URL:https://globalcreditdata.org
X-WR-CALDESC:Events for Global Credit Data
REFRESH-INTERVAL;VALUE=DURATION:PT1H
X-Robots-Tag:noindex
X-PUBLISHED-TTL:PT1H
BEGIN:VTIMEZONE
TZID:Europe/Paris
BEGIN:DAYLIGHT
TZOFFSETFROM:+0100
TZOFFSETTO:+0200
TZNAME:CEST
DTSTART:20250330T010000
END:DAYLIGHT
BEGIN:STANDARD
TZOFFSETFROM:+0200
TZOFFSETTO:+0100
TZNAME:CET
DTSTART:20251026T010000
END:STANDARD
BEGIN:DAYLIGHT
TZOFFSETFROM:+0100
TZOFFSETTO:+0200
TZNAME:CEST
DTSTART:20260329T010000
END:DAYLIGHT
BEGIN:STANDARD
TZOFFSETFROM:+0200
TZOFFSETTO:+0100
TZNAME:CET
DTSTART:20261025T010000
END:STANDARD
BEGIN:DAYLIGHT
TZOFFSETFROM:+0100
TZOFFSETTO:+0200
TZNAME:CEST
DTSTART:20270328T010000
END:DAYLIGHT
BEGIN:STANDARD
TZOFFSETFROM:+0200
TZOFFSETTO:+0100
TZNAME:CET
DTSTART:20271031T010000
END:STANDARD
END:VTIMEZONE
BEGIN:VTIMEZONE
TZID:Europe/Helsinki
BEGIN:DAYLIGHT
TZOFFSETFROM:+0200
TZOFFSETTO:+0300
TZNAME:EEST
DTSTART:20250330T010000
END:DAYLIGHT
BEGIN:STANDARD
TZOFFSETFROM:+0300
TZOFFSETTO:+0200
TZNAME:EET
DTSTART:20251026T010000
END:STANDARD
BEGIN:DAYLIGHT
TZOFFSETFROM:+0200
TZOFFSETTO:+0300
TZNAME:EEST
DTSTART:20260329T010000
END:DAYLIGHT
BEGIN:STANDARD
TZOFFSETFROM:+0300
TZOFFSETTO:+0200
TZNAME:EET
DTSTART:20261025T010000
END:STANDARD
BEGIN:DAYLIGHT
TZOFFSETFROM:+0200
TZOFFSETTO:+0300
TZNAME:EEST
DTSTART:20270328T010000
END:DAYLIGHT
BEGIN:STANDARD
TZOFFSETFROM:+0300
TZOFFSETTO:+0200
TZNAME:EET
DTSTART:20271031T010000
END:STANDARD
END:VTIMEZONE
BEGIN:VEVENT
DTSTART;TZID=Europe/Paris:20260217T150000
DTEND;TZID=Europe/Paris:20260217T160000
DTSTAMP:20260426T054600
CREATED:20260119T164302Z
LAST-MODIFIED:20260202T142302Z
UID:13368-1771340400-1771344000@globalcreditdata.org
SUMMARY:NGFS Climate Scenarios - GCD Climate Risk Focus Group Webinar
DESCRIPTION:Session Overview: Overview of the NGFS scenarios and how they can be applied for climate scenario analysis and stress testing. Insights into key methodological choices and use cases based on the recently released NGFS User Guide on the practical application of climate scenarios\nSpeaker: Tina Emambakhsh\, European Central Bank (ECB)\nRegistration Link: GCD Webinar NGFS Climate Scenarios
URL:https://globalcreditdata.org/events/gcd-climate-risk-focus-group-webinar/
CATEGORIES:ESG & Climate Risk
ATTACH;FMTTYPE=image/jpeg:https://globalcreditdata.org/wp-content/uploads/2024/10/asmejmdwebinarseries-1024x682-1.jpeg
END:VEVENT
BEGIN:VEVENT
DTSTART;TZID=Europe/Paris:20260305T080000
DTEND;TZID=Europe/Paris:20260306T170000
DTSTAMP:20260426T054600
CREATED:20251111T091559Z
LAST-MODIFIED:20260220T131919Z
UID:13133-1772697600-1772816400@globalcreditdata.org
SUMMARY:Global Credit Data European Conference – March 5 & 6\, 2026
DESCRIPTION:We’re excited to announce our highly anticipated European Conference\, taking place in Zurich\, Switzerland on March 5–6\, 2026.\nJoin senior credit risk professionals from leading European and global banks for two dynamic days of insight\, collaboration\, and networking.
URL:https://globalcreditdata.org/events/global-credit-data-european-conference-march-5-6-2026/
CATEGORIES:ESG & Climate Risk
ATTACH;FMTTYPE=image/jpeg:https://globalcreditdata.org/wp-content/uploads/2025/11/save-the-date-without-logo.jpg
END:VEVENT
BEGIN:VEVENT
DTSTART;TZID=Europe/Paris:20260429T150000
DTEND;TZID=Europe/Paris:20260429T160000
DTSTAMP:20260426T054600
CREATED:20260420T191745Z
LAST-MODIFIED:20260420T192244Z
UID:13845-1777474800-1777478400@globalcreditdata.org
SUMMARY:Transition Planning on ESG Risk Management
DESCRIPTION:Webinar on Practical Insights on Transition Planning under the EBA Guidelines on ESG Risk Management\n\n\nThis session provides an overview of the EBA Guidelines on ESG Risk Management and discusses their implications for banks and financial institutions. In particular\, it focuses on the role of transition planning as a forward-looking tool for managing climate-related risks within existing risk management frameworks.\nThe presentation introduces a practical step-by-step approach to developing an ESG transition plan for bank portfolios. It will cover key methodological elements\, including the definition of suitable key risk indicators (KRIs)\, the use of reference pathways and climate scenarios such as CRREM\, IEA\, and NGFS to assess portfolio alignment\, and approaches for translating transition planning into financial risk metrics. The session aims to provide practical insights into how banks can operationalize transition planning and integrate it into their broader risk management processes. \n\nSpeaker: Thomas Wulf\, Head of ESG and Novel Risk\, d-fine\nRegister here
URL:https://globalcreditdata.org/events/transition-planning-on-esg-risk-management/
CATEGORIES:ESG & Climate Risk
ATTACH;FMTTYPE=image/jpeg:https://globalcreditdata.org/wp-content/uploads/2024/03/GCD-webinar-image-2.jpg
END:VEVENT
BEGIN:VEVENT
DTSTART;TZID=Europe/Helsinki:20260506T150000
DTEND;TZID=Europe/Helsinki:20260506T160000
DTSTAMP:20260426T054600
CREATED:20260401T075317Z
LAST-MODIFIED:20260401T081721Z
UID:13832-1778079600-1778083200@globalcreditdata.org
SUMMARY:GCD Webinar on Agentic AI in Wholesale Credit Risk
DESCRIPTION:Overview\nWholesale credit risk frameworks are highly sophisticated and well-governed\, yet they remain largely retrospective\, relying on periodic historical data. As markets\, macroeconomic factors\, and regulatory expectations evolve continuously\, traditional approaches often miss real-time signals. \nThis webinar explores how AI and GenAI can enable faster sourcing and integration of large-scale financial data into credit decisioning. We will present a practical ML and agentic AI framework across the wholesale credit risk lifecycle covering risk signal design\, signal aggregation\, and exception handling within a strong governance structure. \nThe session will highlight how combining agentic AI with traditional methods can support faster\, more accurate\, and regulatorily compliant credit decisions.
URL:https://globalcreditdata.org/events/gcd-webinar-on-agentic-ai-in-wholesale-credit-risk/
ATTACH;FMTTYPE=image/jpeg:https://globalcreditdata.org/wp-content/uploads/2024/10/asmejmdwebinarseries-1024x682-1.jpeg
END:VEVENT
END:VCALENDAR